View In:
ArcGIS JavaScript
ArcGIS Online Map Viewer
ArcGIS Earth
ArcMap
ArcGIS Pro
View Footprint In:
ArcGIS Online Map Viewer
Service Description:
Map Name: Labels
Legend
All Layers and Tables
Layers:
Description:
Service Item Id: 2cac363d7ba14b6380208c227b888c02
Copyright Text:
Spatial Reference:
102100
(3857)
Single Fused Map Cache: true
Tile Info:
- Height: 256
- Width: 256
- DPI: 96
-
Levels of Detail: 23
-
Level ID: 1
[ Start Tile, End Tile ]
- Resolution: 78271.5169639999
- Scale: 2.95828763795777E8
-
Level ID: 2
[ Start Tile, End Tile ]
- Resolution: 39135.7584820001
- Scale: 1.47914381897889E8
-
Level ID: 3
[ Start Tile, End Tile ]
- Resolution: 19567.8792409999
- Scale: 7.3957190948944E7
-
Level ID: 4
[ Start Tile, End Tile ]
- Resolution: 9783.93962049996
- Scale: 3.6978595474472E7
-
Level ID: 5
[ Start Tile, End Tile ]
- Resolution: 4891.96981024998
- Scale: 1.8489297737236E7
- Format: PNG32
- Compression Quality: 0.0
- Origin: X: -2.0037508342787E7
Y: 2.0037508342787E7
- Spatial Reference: 102100
(3857)
Initial Extent:
XMin: -9294064.286330253
YMin: 3249982.4440668747
XMax: -9059291.480247244
YMax: 3329398.0643460215
Spatial Reference: 102100
(3857)
Full Extent:
XMin: -9207787.753800828
YMin: 3196839.330114606
XMax: -9023727.38969005
YMax: 3380441.0720556695
Spatial Reference: 102100
(3857)
Units: esriMeters
Supported Image Format Types: PNG32,PNG24,PNG,JPG,DIB,TIFF,EMF,PS,PDF,GIF,SVG,SVGZ,BMP
Document Info:
Title:
Author:
Comments:
Subject:
Category:
Keywords:
AntialiasingMode: None
TextAntialiasingMode: Force
Supports Dynamic Layers: false
MaxRecordCount: 1000
MaxImageHeight: 4096
MaxImageWidth: 4096
Supported Query Formats: JSON, geoJSON, PBF
Supports Query Data Elements: true
Min Scale: 1155582
Max Scale: 1250
Supports Datum Transformation: true
Child Resources:
Info
Supported Operations:
EstimateExportTilesSize
ExportTiles
Return Updates